BEGIN:VCALENDAR
VERSION:2.0
PRODID:ics
BEGIN:VEVENT
UID:69e7a7bd646a3
DTSTART;TZID=Asia/Bangkok:20260515T161500
SEQUENCE:0
TRANSP:OPAQUE
DTEND;TZID=Asia/Bangkok:20260515T161500
SUMMARY:Opportunity day 1Q 2026
CLASS:PUBLIC
X-ALT-DESC;FMTTYPE=text/html:<div>Time 16:15 - 17:00 hrs.</div>
DTSTAMP:20260421T163717Z
END:VEVENT
END:VCALENDAR